BEGIN:VCALENDAR
VERSION:2.0
PRODID:-//Centerfire Shooting Sports - ECPv6.15.20//NONSGML v1.0//EN
CALSCALE:GREGORIAN
METHOD:PUBLISH
X-WR-CALNAME:Centerfire Shooting Sports
X-ORIGINAL-URL:https://centerfiress.com
X-WR-CALDESC:Events for Centerfire Shooting Sports
REFRESH-INTERVAL;VALUE=DURATION:PT1H
X-Robots-Tag:noindex
X-PUBLISHED-TTL:PT1H
BEGIN:VTIMEZONE
TZID:America/Chicago
BEGIN:DAYLIGHT
TZOFFSETFROM:-0600
TZOFFSETTO:-0500
TZNAME:CDT
DTSTART:20230312T080000
END:DAYLIGHT
BEGIN:STANDARD
TZOFFSETFROM:-0500
TZOFFSETTO:-0600
TZNAME:CST
DTSTART:20231105T070000
END:STANDARD
BEGIN:DAYLIGHT
TZOFFSETFROM:-0600
TZOFFSETTO:-0500
TZNAME:CDT
DTSTART:20240310T080000
END:DAYLIGHT
BEGIN:STANDARD
TZOFFSETFROM:-0500
TZOFFSETTO:-0600
TZNAME:CST
DTSTART:20241103T070000
END:STANDARD
BEGIN:DAYLIGHT
TZOFFSETFROM:-0600
TZOFFSETTO:-0500
TZNAME:CDT
DTSTART:20250309T080000
END:DAYLIGHT
BEGIN:STANDARD
TZOFFSETFROM:-0500
TZOFFSETTO:-0600
TZNAME:CST
DTSTART:20251102T070000
END:STANDARD
END:VTIMEZONE
BEGIN:VEVENT
DTSTART;TZID=America/Chicago:20240123T173000
DTEND;TZID=America/Chicago:20240130T213000
DTSTAMP:20260419T125711
CREATED:20231206T183850Z
LAST-MODIFIED:20231207T171822Z
UID:10001653-1706031000-1706650200@centerfiress.com
SUMMARY:Defensive Rifle Shooting 1/23/24 & 1/30/24
DESCRIPTION:This is a 2 Day Course \nDay 1 Classroom –  5:30 PM to 9:30 PM \nDay 2 Range – 5:30 PM to 9:30 PM  \n\nDefensive Rifle 1 -This is an 8-hour course limited to 8 students.  The primary goal of this course is to develop the tactical knowledge\, skills\, and attitude essential to surviving a lethal threat or confrontation.  Instruction is presented in 5 lessons: Safety and Range Etiquette Review; Tactical Shooting Techniques; Tactical Loading Considerations and Techniques; Draw to the Ready Position; and Use of the Ready Position.  \nThe course will include both classroom presentations and live fire range exercises.  A combination of Dry Practice\, Shooting Drills covering – singles\, pairs\, and failure/malfunctions\, Cadence of Fire\, and Weapon Retention\, will help instill the “Tactical Mindset” in the graduates.   \nAll graduates receive a Certificate of Completion \n  \n\nMinimum Required Items: \nServiceable defensive rifle; AR or AK platform preferred. Please contact our instructors for approval for all other weapon systems. \n\nOne spare magazine\nSnap caps (minimum 2)\nQuality\, adjustable sling\, 1 or 2-point\nSight adjustment tool for individual iron sights or optic\n240 rounds of ammunition\nEye and hearing protection\nAppropriate clothing; no shorts or open-toed footwear\n\n                   \nRecommended: \n\nTwo spare magazines\nMagazine holder\nLong-sleeved shirt
URL:https://centerfiress.com/event/defensive-rifle-shooting-1-23-24-1-30-24/
LOCATION:Centerfire Shooting Sports\, 875 North Jan Mar Court\, Olathe\, KS\, 66061\, United States
CATEGORIES:Shooting Classes
GEO:38.8910391;-94.7946583
X-APPLE-STRUCTURED-LOCATION;VALUE=URI;X-ADDRESS=Centerfire Shooting Sports 875 North Jan Mar Court Olathe KS 66061 United States;X-APPLE-RADIUS=500;X-TITLE=875 North Jan Mar Court:geo:-94.7946583,38.8910391
END:VEVENT
END:VCALENDAR